BEGIN:VCALENDAR
VERSION:2.0
PRODID:-//River City Bimmers - BMW Car Club of America - ECPv6.15.18//NONSGML v1.0//EN
CALSCALE:GREGORIAN
METHOD:PUBLISH
X-ORIGINAL-URL:https://rivercity.bmwcca.net
X-WR-CALDESC:Events for River City Bimmers - BMW Car Club of America
REFRESH-INTERVAL;VALUE=DURATION:PT1H
X-Robots-Tag:noindex
X-PUBLISHED-TTL:PT1H
BEGIN:VTIMEZONE
TZID:America/Los_Angeles
BEGIN:DAYLIGHT
TZOFFSETFROM:-0800
TZOFFSETTO:-0700
TZNAME:PDT
DTSTART:20150308T100000
END:DAYLIGHT
BEGIN:STANDARD
TZOFFSETFROM:-0700
TZOFFSETTO:-0800
TZNAME:PST
DTSTART:20151101T090000
END:STANDARD
BEGIN:DAYLIGHT
TZOFFSETFROM:-0800
TZOFFSETTO:-0700
TZNAME:PDT
DTSTART:20160313T100000
END:DAYLIGHT
BEGIN:STANDARD
TZOFFSETFROM:-0700
TZOFFSETTO:-0800
TZNAME:PST
DTSTART:20161106T090000
END:STANDARD
BEGIN:DAYLIGHT
TZOFFSETFROM:-0800
TZOFFSETTO:-0700
TZNAME:PDT
DTSTART:20170312T100000
END:DAYLIGHT
BEGIN:STANDARD
TZOFFSETFROM:-0700
TZOFFSETTO:-0800
TZNAME:PST
DTSTART:20171105T090000
END:STANDARD
END:VTIMEZONE
BEGIN:VEVENT
DTSTART;TZID=America/Los_Angeles:20161008T190000
DTEND;TZID=America/Los_Angeles:20161008T220000
DTSTAMP:20260420T090936
CREATED:20160830T135450Z
LAST-MODIFIED:20160830T135450Z
UID:26402-1475953200-1475964000@rivercity.bmwcca.net
SUMMARY:GGC Volunteer Appreciation Party
DESCRIPTION:Each year we take an evening to celebrate and thank our volunteers for the hard work they’ve put into the Chapter and we want to invite all of our Members to join us this year. We’ll have a DJ\, food and beverages. Please join us for a fun night and help us thank the Members who’ve worked so hard this year to help make the Golden Gate Chapter amazing.  This is also a great opportunity to find out how to become a volunteer and meet other members. \nThe Golden Gate Chapter requires the dedication of Members just like you! Every single event we host requires volunteers to run it and we don’t get to thank these exceptionally dedicated members often enough. So let’s party and take an evening to do just that! See you there! Bring Friends! \nClick here for non-volunteer registration. $20 per person\, inclusive. \nVolunteers are by invite only\, with a separate registration. Please contact Eric Ries\, President if your invite has not arrived via email.
URL:https://rivercity.bmwcca.net/event/ggc-volunteer-appreciation-party/
CATEGORIES:Party,Social Events
END:VEVENT
BEGIN:VEVENT
DTSTART;VALUE=DATE:20160823
DTEND;VALUE=DATE:20160829
DTSTAMP:20260420T090936
CREATED:20151219T134036Z
LAST-MODIFIED:20151219T134036Z
UID:26341-1471910400-1472428799@rivercity.bmwcca.net
SUMMARY:47th Annual BMW CCA Oktoberfest Presented by Michelin
DESCRIPTION:The 47th Annual BMW CCA Oktoberfest will run from Tuesday\, August 23 through Sunday\, August 29\, 2016 in Monterey\, CA. \nRegistration now open! Click here to register! \nCelebrate with Us!\n\nEach year the BMW Car Club of America throws a party—a world famous party known as Oktoberfest and sometimes simply O’fest. This movable celebration of everything BMW occurs at exciting locations throughout the country and is the ultimate motorsport family reunion. This year we are fortunate enough to have our family reunion presented by Michelin once again!\n  \n2015’s Oktoberfest\, hosted by the New Jersey Chapter\, was a week filled with old school charm and exciting driving events. But now it’s time to prepare for the next chapter of the Oktoberfest story¬–the 47th Annual BMW CCA Oktoberfest Presented by Michelin in Monterey\, California!\n  \nO’Fest 2016 will be part of a once-in-a-lifetime celebration spanning almost two weeks in honor of BMW’s 100th anniversary. The event will be held in conjunction with two other favorite club events—Legends of the Autobahn and the Festorics corral—so you do not want to miss this historic event. The host hotel for O’fest will be the Hyatt Monterey and the track is\, of course\, the thrilling Laguna Seca Raceway. Yes\, finally you\, too\, will drive the Corkscrew!\n  \nMonterey is known for incredible scenery\, the Monterey Bay Aquarium\, Fisherman’s Wharf\, and the nearby vineyards in Carmel Valley making this location the perfect setting for the centennial celebration and O’Fest!\n  \nOktoberfest will run from Tuesday\, August 23 through Sunday\, August 28\, 2016\, and will feature many of the staples that longtime attendees have become familiar with at previous gatherings\, including the Bridgestone autocross\, Pirelli Concours\, rallies\, and of course\, high-performance driving events. This year’s edition will also feature some very unique social events—a beach party along the Monterey Bay\, a strolling dinner at Holman Ranch with stunning mountain views\, and the BMW NA Awards Banquet at the Hyatt with some very special guests to end the week.\n  \nThis will be a bucket-list week of excitement and fun for any BMW enthusiast. Stay tuned for other surprises that have yet to be announced!\n\nRegister today!
URL:https://rivercity.bmwcca.net/event/47th-annual-bmw-cca-oktoberfest-presented-by-michelin/
CATEGORIES:Autocross,Car Control Clinics,Club Race,Corral,Driving Events,Driving Schools (HPDE),Meet & Greet,Party,Social Events,Tech Sessions,Tours
ATTACH;FMTTYPE=:
END:VEVENT
BEGIN:VEVENT
DTSTART;VALUE=DATE:20160618
DTEND;VALUE=DATE:20160619
DTSTAMP:20260420T090936
CREATED:20160315T203513Z
LAST-MODIFIED:20160315T203513Z
UID:26382-1466208000-1466294399@rivercity.bmwcca.net
SUMMARY:GGC Summer Picnic and Driving Tour
DESCRIPTION:Our annual summer picnic and driving tour is one of our biggest events of the year!\n \nWe’ll start the day with an optional driving tour through some fantastic mountain roads in the Marin headlands ending at McNears Beach in San Rafael.  We will have several picnic areas reserved and there is a public pool so bring your suits and sunscreen! \nWe will have a BBQ lunch catered on site with a fantastic menu that includes\, appetizers\, BBQ baby back ribs\, rotisserie chicken\, veggie plates\, roasted potatoes\, caesar salad\, fruit\, bread\, ice cream\, cookies\, water and soda. \nThe driving tour route is being planned and will be shared a week before the event with registered attendees only so be sure the check the box for the tour during registration.  The drive will last approximately 2.5 hours\, arriving at the park by 12:30p.  The tour is limited to 30 cars so register early to guarantee your spot! \nREGISTER TODAY! \n* Pets are prohibited\, $10/car parking fee on site\, cash only. \n 
URL:https://rivercity.bmwcca.net/event/ggc-summer-picnic-and-driving-tour/
CATEGORIES:Party,Tours
END:VEVENT
BEGIN:VEVENT
DTSTART;TZID=America/Los_Angeles:20160501T110000
DTEND;TZID=America/Los_Angeles:20160501T150000
DTSTAMP:20260420T090936
CREATED:20160216T214442Z
LAST-MODIFIED:20160216T214442Z
UID:26375-1462100400-1462114800@rivercity.bmwcca.net
SUMMARY:EDGE Motorworks Open House - CANCELLED
DESCRIPTION:This event has been cancelled. \nJoin us May 1st from 11AM – 3PM at EDGE Motorworks Mountain View location for an open house\, meet the staff\, see the facility and hang out with BMW and Mini enthusiasts. There will be food\, music\, giveaways and tons of cars. THIS IS A RAIN OR SHINE EVENT! \nThey will also be presenting their 2nd place E0 25 Hour S54 E36 along with their TTF National Winning Mini Cooper. \nWe have 25 spots in our main parking lot that are reserved for the duration of the event. If you would like to reserve a spot in the main parking lot\, please email Erfan to inquire.
URL:https://rivercity.bmwcca.net/event/edge-motorworks-open-house/
CATEGORIES:Meet & Greet,Party
ATTACH;FMTTYPE=:
END:VEVENT
END:VCALENDAR